BEGIN:VCALENDAR
VERSION:2.0
PRODID:-//ChamberMaster//Event Calendar 2.0//EN
METHOD:PUBLISH
X-PUBLISHED-TTL:P3D
REFRESH-INTERVAL:P3D
CALSCALE:GREGORIAN
BEGIN:VEVENT
DTSTART:20140726T200000Z
DTEND:20140726T230000Z
X-MICROSOFT-CDO-ALLDAYEVENT:FALSE
SUMMARY:Music on the deck
DESCRIPTION:Live performance by Garth on the deck starting at 1:00. Olive food truck will be serving lunch from 11:00 to 3:00.
X-ALT-DESC;FMTTYPE=text/html:Live performance by Garth on the deck starting at 1:00. Olive food truck will be serving lunch from 11:00 to 3:00.
LOCATION:3796 Peppers Bridge Road Walla Walla\, WA 99362
UID:e.65.1858
SEQUENCE:3
DTSTAMP:20260421T180021Z
URL:https://business.wwvchamber.com/events/details/music-on-the-deck-07-26-2014-1858
END:VEVENT

END:VCALENDAR
