BEGIN:VCALENDAR
VERSION:2.0
PRODID:-//ChamberMaster//Event Calendar 2.0//EN
METHOD:PUBLISH
X-PUBLISHED-TTL:P3D
REFRESH-INTERVAL:P3D
CALSCALE:GREGORIAN
BEGIN:VEVENT
DTSTART:20140613T200000Z
DTEND:20140614T000000Z
X-MICROSOFT-CDO-ALLDAYEVENT:FALSE
SUMMARY:NAIFA Golf Tournament for Walla Walla Community Hospice
DESCRIPTION:The National Association of Insurance and Financial Advisors (NAIFA) Golf Tournament to benefit Walla Walla Community Hospice will be held Friday\, June 13\, 2014 at the Veteran's Memorial Golf Course.  A shotgun start is scheduled for 1:00 pm.  Entry fee for the four-person scramble format tournament is $25 per person\, plus greens fees for non-ticket holders.  Contact Hospice at 509-525-5561 for an entry form.
X-ALT-DESC;FMTTYPE=text/html:<p class="MsoNormal" style="margin: 0in 0in 0pt\;"><span style="color: black\; font-family: &quot\;Arial&quot\;\,&quot\;sans-serif&quot\;\; font-size: 10pt\;">The National Association of Insurance and Financial Advisors (NAIFA) Golf Tournament to benefit Walla Walla Community Hospice will be held Friday\, June 1</span><span style="font-family: &quot\;Arial&quot\;\,&quot\;sans-serif&quot\;\; font-size: 10pt\;"><font color="#000000">3<span style="color: black\;">\, 201</span>4<span style="color: black\;"> at the Veteran&rsquo\;s Memorial Golf Course.</span>&nbsp\; A shotgun start is scheduled for 1:00 pm.<span style="color: black\;">&nbsp\; Entry fee for the four-person scramble format tournament is $</span>25<span style="color: black\;"> per person\, plus greens fees for non-ticket holders.&nbsp\; Contact Hospice at 509-525-5561 for an entry form.<o:p></o:p></span></font></span></p>\n
LOCATION:
UID:e.65.1776
SEQUENCE:3
DTSTAMP:20260421T194941Z
URL:https://business.wwvchamber.com/events/details/naifa-golf-tournament-for-walla-walla-community-hospice-06-13-2014-1776
END:VEVENT

END:VCALENDAR
