BEGIN:VCALENDAR
VERSION:2.0
PRODID:-//ChamberMaster//Event Calendar 2.0//EN
METHOD:PUBLISH
X-PUBLISHED-TTL:P3D
REFRESH-INTERVAL:P3D
CALSCALE:GREGORIAN
BEGIN:VEVENT
DTSTART:20140518T030000Z
DTEND:20140518T070000Z
X-MICROSOFT-CDO-ALLDAYEVENT:FALSE
SUMMARY:Nathaniel Rateliff\, Hat No Hat\, Carly Ritter
DESCRIPTION:American singer-songwriter\, on tour to support his latest release 'Falling Faster Than You Can Run' . Accompanied by opening artists Hat No Hat and Carly Ritter
X-ALT-DESC;FMTTYPE=text/html:American singer-songwriter\, on tour to support his latest release &#39\;Falling Faster Than You Can Run&#39\; . Accompanied by opening artists Hat No Hat and Carly Ritter
LOCATION:Main Street Studios 207\, W Main Street\, Walla Walla\, WA
UID:e.65.1752
SEQUENCE:3
DTSTAMP:20260421T211208Z
URL:https://business.wwvchamber.com/events/details/nathaniel-rateliff-hat-no-hat-carly-ritter-05-17-2014-1752
END:VEVENT

END:VCALENDAR
