BEGIN:VCALENDAR
VERSION:2.0
PRODID:-//ChamberMaster//Event Calendar 2.0//EN
METHOD:PUBLISH
X-PUBLISHED-TTL:P3D
REFRESH-INTERVAL:P3D
CALSCALE:GREGORIAN
BEGIN:VEVENT
DTSTART:20140321T020000Z
DTEND:20140321T040000Z
X-MICROSOFT-CDO-ALLDAYEVENT:FALSE
SUMMARY:Native Plant Workshop
DESCRIPTION:Have you wondered what plants are native to the Walla Walla Basin and the Blue Mountains?    o Where can I see them growing/flowering? o Why should I consider planting them in my yard\, flower garden or along my creek? o How do I find out where to buy native plants? o Who do I ask about the best places to plant them? If you want to learn the answers to these and other questions\, please join  attend for this informative workshop. Presented by Creating Urban Buffers Program of Tri-State Steelheaders\, Kooskooskie Commons and Walla Walla County Conservation District.. NO Registration Required RSVP welcomed to Judith Johnson at jsj@bmi.net
X-ALT-DESC;FMTTYPE=text/html:Have you wondered what plants are native to the Walla Walla Basin and the Blue Mountains? &nbsp\;&nbsp\; o Where can I see them growing/flowering? o Why should I consider planting them in my yard\, flower garden or along my creek? o How do I find out where to buy native plants? o Who do I ask about the best places to plant them? If you want to learn the answers to these and other questions\, please join &nbsp\;attend for this informative workshop. Presented by Creating Urban Buffers Program of Tri-State Steelheaders\, Kooskooskie Commons and Walla Walla County Conservation District.. NO Registration Required RSVP welcomed to Judith Johnson at jsj@bmi.net
LOCATION:Walla Walla Community College Water and Environment Center
UID:e.65.1644
SEQUENCE:3
DTSTAMP:20260422T003204Z
URL:https://business.wwvchamber.com/events/details/native-plant-workshop-03-20-2014-1644
END:VEVENT

END:VCALENDAR
