BEGIN:VCALENDAR
VERSION:2.0
PRODID:-//ChamberMaster//Event Calendar 2.0//EN
METHOD:PUBLISH
X-PUBLISHED-TTL:P3D
REFRESH-INTERVAL:P3D
CALSCALE:GREGORIAN
BEGIN:VEVENT
DTSTART:20140912T020000Z
DTEND:20140912T050000Z
X-MICROSOFT-CDO-ALLDAYEVENT:FALSE
SUMMARY:Neil DeGrasse Tyson presented by Main Street Studios & Walla Walla Center for t
DESCRIPTION:Neil deGrasse Tyson was born and raised in New York City where he was educated in the public schools clear through his graduation from the Bronx High School of Science. Tyson went on to earn his BA in Physics from Harvard and his PhD in Astrophysics from Columbia. Tyson's professional research interests are broad\, but include star formation\, exploding stars\, dwarf galaxies\, and the structure of our Milky Way. In February 2012\, Tyson released his tenth book\, containing every thought he has ever had on the past\, present\, and future of space exploration: Space Chronicles: Facing the Ultimate Frontier. Currently\, Tyson is working on a 21st century reboot of Carl Sagan's landmark television series COSMOS\, to air in 13 episodes on the FOX network in the spring of 2014.
X-ALT-DESC;FMTTYPE=text/html:Neil deGrasse Tyson was born and raised in New York City where he was educated in the public schools clear through his graduation from the Bronx High School of Science. Tyson went on to earn his BA in Physics from Harvard and his PhD in Astrophysics from Columbia.&nbsp\;Tyson&#39\;s professional research interests are broad\, but include star formation\, exploding stars\, dwarf galaxies\, and the structure of our Milky Way. In February 2012\, Tyson released his tenth book\, containing every thought he has ever had on the past\, present\, and future of space exploration: Space Chronicles: Facing the Ultimate Frontier. Currently\, Tyson is working on a 21st century reboot of Carl Sagan&#39\;s landmark television series COSMOS\, to air in 13 episodes on the FOX network in the spring of 2014.
LOCATION:Cordiner Hall 345 Boyer Ave Walla Walla\, WA 99362
UID:e.65.1866
SEQUENCE:3
DTSTAMP:20260421T140925Z
URL:https://business.wwvchamber.com/events/details/neil-degrasse-tyson-presented-by-main-street-studios-walla-walla-center-for-t-09-11-2014-1866
END:VEVENT

END:VCALENDAR
