BEGIN:VCALENDAR
VERSION:2.0
PRODID:-//ChamberMaster//Event Calendar 2.0//EN
METHOD:PUBLISH
X-PUBLISHED-TTL:P3D
REFRESH-INTERVAL:P3D
CALSCALE:GREGORIAN
BEGIN:VEVENT
DTSTART:20140913T020000Z
DTEND:20140913T050000Z
X-MICROSOFT-CDO-ALLDAYEVENT:FALSE
SUMMARY:Neil DeGrasse Tyson presented by Main Street Studios & Walla Walla Center for t
DESCRIPTION:Neil deGrasse Tyson was born and raised in New York City where he was educated in the public schools clear through his graduation from the Bronx High School of Science. Tyson went on to earn his BA in Physics from Harvard and his PhD in Astrophysics from Columbia. Tyson's professional research interests are broad\, but include star formation\, exploding stars\, dwarf galaxies\, and the structure of our Milky Way. Tyson is the recipient of eighteen honorary doctorates and the NASA Distinguished Public Service Medal\, the highest award given by NASA to a non-government citizen. His contributions to the public appreciation of the cosmos have been recognized by the International Astronomical Union in their official naming of asteroid 13123 Tyson. On the lighter side\, Tyson was voted Sexiest Astrophysicist Alive by People Magazine in 2000.
X-ALT-DESC;FMTTYPE=text/html:Neil deGrasse Tyson was born and raised in New York City where he was educated in the public schools clear through his graduation from the Bronx High School of Science. Tyson went on to earn his BA in Physics from Harvard and his PhD in Astrophysics from Columbia.&nbsp\;Tyson&#39\;s professional research interests are broad\, but include star formation\, exploding stars\, dwarf galaxies\, and the structure of our Milky Way. Tyson is the recipient of eighteen honorary doctorates and the NASA Distinguished Public Service Medal\, the highest award given by NASA to a non-government citizen. His contributions to the public appreciation of the cosmos have been recognized by the International Astronomical Union in their official naming of asteroid 13123 Tyson. On the lighter side\, Tyson was voted Sexiest Astrophysicist Alive by People Magazine in 2000.
LOCATION:Cordiner Hall 345 Boyer Ave Walla Walla\, WA 99362
UID:e.65.1867
SEQUENCE:3
DTSTAMP:20260421T140835Z
URL:https://business.wwvchamber.com/events/details/neil-degrasse-tyson-presented-by-main-street-studios-walla-walla-center-for-t-09-12-2014-1867
END:VEVENT

END:VCALENDAR
