BEGIN:VCALENDAR
VERSION:2.0
PRODID:-//ChamberMaster//Event Calendar 2.0//EN
METHOD:PUBLISH
X-PUBLISHED-TTL:P3D
REFRESH-INTERVAL:P3D
CALSCALE:GREGORIAN
BEGIN:VEVENT
DTSTART:20141021T003000Z
DTEND:20141021T023000Z
X-MICROSOFT-CDO-ALLDAYEVENT:FALSE
SUMMARY:Neutral Ground Open House
DESCRIPTION:Neutral Ground is a 501c3 non-profit that provides conflict coaching and mediation. We are able to help with issues involving family\, divorce\, parenting plans\, parent/teen\, eldercare\, workplace\, neighborhood\, ... Free consultations. A sliding fee schedule.
X-ALT-DESC;FMTTYPE=text/html:Neutral Ground is a 501c3 non-profit that provides conflict coaching and mediation. We are able to help with issues involving family\, divorce\, parenting plans\, parent/teen\, eldercare\, workplace\, neighborhood\, ... Free consultations. A sliding fee schedule.
LOCATION:SonBridge Community Center 1200 SE 12th Street College Place
UID:e.65.1981
SEQUENCE:3
DTSTAMP:20260421T121017Z
URL:https://business.wwvchamber.com/events/details/neutral-ground-open-house-10-20-2014-1981
END:VEVENT

END:VCALENDAR
