BEGIN:VCALENDAR
VERSION:2.0
PRODID:-//ChamberMaster//Event Calendar 2.0//EN
METHOD:PUBLISH
X-PUBLISHED-TTL:P3D
REFRESH-INTERVAL:P3D
CALSCALE:GREGORIAN
BEGIN:VEVENT
DTSTART:20140616T030000Z
DTEND:20140616T070000Z
X-MICROSOFT-CDO-ALLDAYEVENT:FALSE
SUMMARY:Nick Moss Band w/ Steel Toed Slippers
DESCRIPTION:Nick Moss adds a blend of traditional blues and progressive\, jam-oriented blues rock. Face-melting guitar solos that rise above the crowded field of pretenders\, and a versatile band that brilliantly delivers unparalleled improvisational jams. Will Nicoll\, Matt Moss\, and Nick Maury\, also known as Steel Toed Slippers\, have risen from the roots of Redwoods in Humboldt County to bring the world a tall and sturdy serving of classic American rock soiled in soul\, blues\, and jazz influences.
X-ALT-DESC;FMTTYPE=text/html:Nick Moss adds a blend of traditional blues and progressive\, jam-oriented blues rock. Face-melting guitar solos that rise above the crowded field of pretenders\, and a versatile band that brilliantly delivers unparalleled improvisational jams. Will Nicoll\, Matt Moss\, and Nick Maury\, also known as Steel Toed Slippers\, have risen from the roots of Redwoods in Humboldt County to bring the world a tall and sturdy serving of classic American rock soiled in soul\, blues\, and jazz influences.
LOCATION:Main Street Studios 207\, West Main Street Walla Walla\, WA 99362
UID:e.65.1764
SEQUENCE:3
DTSTAMP:20260421T205617Z
URL:https://business.wwvchamber.com/events/details/nick-moss-band-w-steel-toed-slippers-06-15-2014-1764
END:VEVENT

END:VCALENDAR
