BEGIN:VCALENDAR
VERSION:2.0
PRODID:-//ChamberMaster//Event Calendar 2.0//EN
METHOD:PUBLISH
X-PUBLISHED-TTL:P3D
REFRESH-INTERVAL:P3D
CALSCALE:GREGORIAN
BEGIN:VEVENT
DTSTART:20140712T030000Z
DTEND:20140712T060000Z
X-MICROSOFT-CDO-ALLDAYEVENT:FALSE
SUMMARY:Night Life Walla Walla 3rd Anniversary Party With Aces Up and Zach Hinson
DESCRIPTION:It is no surprise that Aces Up has quickly become a favorite of even the most discerning country music fans\, and a welcome addition to the playlists of committed rockers. With the release of their Exact Records debut album "Backyard Superstars" look for them on tour bringing their authentic and original Northwest blend of country and rock to the rest of the world. Zach was born in february of 1992 and has lived his whole life in West Valley Yakima\, Washington. While being Northwest born and bread\, he spent his younger years outside camping\, fishing\, and hunting with his Dad and Brothers. As Zach became more interseted in music\, he found his home in country. Now Zach writes music most all can relate to. Whether you have spent your whole life in the city or in the country. Take a listen to any of Zach Hinson's music\, and you will soon be swept away by his ability to make the listen feel the same emotion. We hope you enjoy the music and his journey to the top!
X-ALT-DESC;FMTTYPE=text/html:It is no surprise that Aces Up has quickly become a favorite of even the most discerning country music fans\, and a welcome addition to the playlists of committed rockers. With the release of their Exact Records debut album &quot\;Backyard Superstars&quot\; look for them on tour bringing their authentic and original Northwest blend of country and rock to the rest of the world. Zach was born in february of 1992 and has lived his whole life in West Valley Yakima\, Washington. While being Northwest born and bread\, he spent his younger years outside camping\, fishing\, and hunting with his Dad and Brothers. As Zach became more interseted in music\, he found his home in country. Now Zach writes music most all can relate to. Whether you have spent your whole life in the city or in the country. Take a listen to any of Zach Hinson&#39\;s music\, and you will soon be swept away by his ability to make the listen feel the same emotion. We hope you enjoy the music and his journey to the top!
LOCATION:Main Street Studios 207 West Main Street\, Walla Walla\, WA 99362
UID:e.65.1849
SEQUENCE:3
DTSTAMP:20260421T191147Z
URL:https://business.wwvchamber.com/events/details/night-life-walla-walla-3rd-anniversary-party-with-aces-up-and-zach-hinson-07-11-2014-1849
END:VEVENT

END:VCALENDAR
