BEGIN:VCALENDAR
VERSION:2.0
PRODID:-//ChamberMaster//Event Calendar 2.0//EN
METHOD:PUBLISH
X-PUBLISHED-TTL:P3D
REFRESH-INTERVAL:P3D
CALSCALE:GREGORIAN
BEGIN:VEVENT
DTSTART:20141031T180000Z
DTEND:20141101T000000Z
X-MICROSOFT-CDO-ALLDAYEVENT:FALSE
SUMMARY:Northstar Halloween Vintage Friday
DESCRIPTION:Join us on Friday\, October 31st for a special Halloween-themed Vintage Friday. We'll have a few tricks but mostly treats including our featured vintage wine.\n\n\n\nWe have limited quantities of the 2006 Cabernet Sauvignon\, Columbia Valley\, from the Private Cellar\, brought in especially for this event. This 100% Cabernet Sauvignon blend consists of fruit from 3 distinct vineyards   Anna Marie\, Kiona and Shaw Red Mountain. Taste and purchase this Cabernet\, along with our current vintages.\n\n\n\nCheeses to match this incredible wine have been specially paired by Tamara of Cheese Louise while Cookie Construction will be providing fun Halloween-themed cookies for the occasion. Enjoy live jazz and soul music with Jamie Nasario Trio\, here for their first Northstar appearance.\n\n\n\nOur guest artist for this event is Amelia Sherritt. Amelia's work is created with wine foils\, creating unique\, unusual and distinctive works of art from these colorful rounds.\n\n\n\nTasting fees are waived for guests in costume!
X-ALT-DESC;FMTTYPE=text/html:Join us on Friday\, October 31st for a special Halloween-themed Vintage Friday. We&rsquo\;ll have a few tricks but mostly treats including our featured vintage wine.<br />\n<br />\nWe have limited quantities of the 2006 Cabernet Sauvignon\, Columbia Valley\, from the Private Cellar\, brought in especially for this event. This 100% Cabernet Sauvignon blend consists of fruit from 3 distinct vineyards &mdash\; Anna Marie\, Kiona and Shaw Red Mountain. Taste and purchase this Cabernet\, along with our current vintages.<br />\n<br />\nCheeses to match this incredible wine have been specially paired by Tamara of Cheese Louise while Cookie Construction will be providing fun Halloween-themed cookies for the occasion. Enjoy live jazz and soul music with Jamie Nasario Trio\, here for their first Northstar appearance.<br />\n<br />\nOur guest artist for this event is Amelia Sherritt. Amelia&rsquo\;s work is created with wine foils\, creating unique\, unusual and distinctive works of art from these colorful rounds.<br />\n<br />\nTasting fees are waived for guests in costume!
LOCATION:Northstar Winery 1736 J B George Rd Walla Walla\, WA 99362
UID:e.65.1964
SEQUENCE:3
DTSTAMP:20260421T121441Z
URL:https://business.wwvchamber.com/events/details/northstar-halloween-vintage-friday-10-31-2014-1964
END:VEVENT

END:VCALENDAR
