BEGIN:VCALENDAR
VERSION:2.0
PRODID:-//ChamberMaster//Event Calendar 2.0//EN
METHOD:PUBLISH
X-PUBLISHED-TTL:P3D
REFRESH-INTERVAL:P3D
CALSCALE:GREGORIAN
BEGIN:VEVENT
DTSTART;VALUE=DATE:20141129
DTEND;VALUE=DATE:20141130
TRANSP:TRANSPARENT
X-MICROSOFT-CDO-ALLDAYEVENT:TRUE
SUMMARY:November Coloring Contest! Everyone is invited to enter!
DESCRIPTION:Tell us what you're thankful for and color the bear for a chance to win a gift basket (:.
X-ALT-DESC;FMTTYPE=text/html:Tell us what you're thankful for and color the bear for a chance to win a gift basket (:.<br>\n<br>\n<br>\n&nbsp\;
LOCATION:Walla Walla Pediatric Dentistry 614 E Alder St STE 6 Walla Walla\, WA 99362
UID:e.65.2233
SEQUENCE:3
DTSTAMP:20260421T105036Z
URL:https://business.wwvchamber.com/events/details/november-coloring-contest-everyone-is-invited-to-enter-11-29-2014-2233
END:VEVENT

END:VCALENDAR
