BEGIN:VCALENDAR
VERSION:2.0
PRODID:-//ChamberMaster//Event Calendar 2.0//EN
METHOD:PUBLISH
X-PUBLISHED-TTL:P3D
REFRESH-INTERVAL:P3D
CALSCALE:GREGORIAN
BEGIN:VEVENT
DTSTART:20141213T220000Z
DTEND:20141214T053000Z
X-MICROSOFT-CDO-ALLDAYEVENT:FALSE
SUMMARY:Nutcracker
DESCRIPTION:The holiday favorite returns to Walla Walla!\n\n\n\nTchaikovsky's Nutcracker\n\nSaturday\, December 13\, 2pm and 7:30pm\n\n\n\nFeaturing the Eugene Ballet Company\, Toni Pimble\, artistic director\n\n& The Dance Center of Walla Walla\, Idalee Hutson-Fish\, artistic director
X-ALT-DESC;FMTTYPE=text/html:The holiday favorite returns to Walla Walla!<br>\n<br>\nTchaikovsky's Nutcracker<br>\nSaturday\, December 13\, 2pm and 7:30pm<br>\n<br>\nFeaturing the Eugene Ballet Company\, Toni Pimble\, artistic director<br>\n&amp\; The Dance Center of Walla Walla\, Idalee Hutson-Fish\, artistic director
LOCATION:46 S. Park St Cordiner Hall
UID:e.65.1983
SEQUENCE:3
DTSTAMP:20260421T085057Z
URL:https://business.wwvchamber.com/events/details/nutcracker-12-13-2014-1983
END:VEVENT

END:VCALENDAR
