BEGIN:VCALENDAR
VERSION:2.0
PRODID:-//ChamberMaster//Event Calendar 2.0//EN
METHOD:PUBLISH
X-PUBLISHED-TTL:P3D
REFRESH-INTERVAL:P3D
CALSCALE:GREGORIAN
BEGIN:VEVENT
DTSTART:20140511T033000Z
DTEND:20140518T203000Z
X-MICROSOFT-CDO-ALLDAYEVENT:FALSE
SUMMARY:Oh Gastronomy!
DESCRIPTION:Presented by wwudrama\, "Oh\, Gastronomy!" is a play all about food. This show is full of prizes\, giveaways\, and fun\, and before the Sunday and Thursday shows the "Why Not Pizza" truck will be outside the theater. All show attendees get a free slice of pizza with their ticket. Show dates are May 10\, 11\, 15\, 17\, and 18. For show times and reservation information\, visit drama.wallawalla.edu
X-ALT-DESC;FMTTYPE=text/html:Presented by wwudrama\, &quot\;Oh\, Gastronomy!&quot\; is a play all about food. This show is full of prizes\, giveaways\, and fun\, and before the Sunday and Thursday shows the &quot\;Why Not Pizza&quot\; truck will be outside the theater. All show attendees get a free slice of pizza with their ticket. Show dates are May 10\, 11\, 15\, 17\, and 18. For show times and reservation information\, visit drama.wallawalla.edu
LOCATION:Village Hall\, on the campus of Walla Walla University\, 204 S. College Ave\, College Place\, WA
UID:e.65.1750
SEQUENCE:3
DTSTAMP:20260421T211109Z
URL:https://business.wwvchamber.com/events/details/oh-gastronomy-05-10-2014-1750
END:VEVENT

END:VCALENDAR
