BEGIN:VCALENDAR
VERSION:2.0
PRODID:-//ChamberMaster//Event Calendar 2.0//EN
METHOD:PUBLISH
X-PUBLISHED-TTL:P3D
REFRESH-INTERVAL:P3D
CALSCALE:GREGORIAN
BEGIN:VEVENT
DTSTART:20140525T160000Z
DTEND:20140525T200000Z
X-MICROSOFT-CDO-ALLDAYEVENT:FALSE
SUMMARY:Onion Man Triathlon
DESCRIPTION:This is an exciting and challenging race open to team competitors as well as individuals who like to power it on their own. We wish all of you a safe race and encourage you to get out there and swim hard\, ride strong\, run fast and most of all\, enjoy yourselves!\n\n\n\n1.5k swim at bennington lake\, 40k bike up Mill Creek Road\, and 10k run along bike path.
X-ALT-DESC;FMTTYPE=text/html:This is an exciting and challenging race open to team competitors as well as individuals who like to power it on their own. We wish all of you a safe race and encourage you to get out there and swim hard\, ride strong\, run fast and most of all\, enjoy yourselves!<br />\n<br />\n1.5k swim at bennington lake\, 40k bike up Mill Creek Road\, and 10k run along bike path.
LOCATION:Bennington Lake\, Walla Walla\, WA
UID:e.65.1746
SEQUENCE:3
DTSTAMP:20260421T211038Z
URL:https://business.wwvchamber.com/events/details/onion-man-triathlon-05-25-2014-1746
END:VEVENT

END:VCALENDAR
