BEGIN:VCALENDAR
VERSION:2.0
PRODID:-//ChamberMaster//Event Calendar 2.0//EN
METHOD:PUBLISH
X-PUBLISHED-TTL:P3D
REFRESH-INTERVAL:P3D
CALSCALE:GREGORIAN
BEGIN:VEVENT
DTSTART:20140622T220000Z
DTEND:20140623T000000Z
X-MICROSOFT-CDO-ALLDAYEVENT:FALSE
SUMMARY:Operation Fun & Games
DESCRIPTION:Free spy activity and game booths\, prizes\, snacks and disguise photo booth.
X-ALT-DESC;FMTTYPE=text/html:Free spy activity and game booths\, prizes\, snacks and disguise photo booth.
LOCATION:Eastgate SDA Church 380 N. Tausick Way Walla Walla\, WA 99362
UID:e.65.1803
SEQUENCE:3
DTSTAMP:20260421T194342Z
URL:https://business.wwvchamber.com/events/details/operation-fun-games-06-22-2014-1803
END:VEVENT

END:VCALENDAR
