BEGIN:VCALENDAR
VERSION:2.0
PRODID:-//ChamberMaster//Event Calendar 2.0//EN
METHOD:PUBLISH
X-PUBLISHED-TTL:P3D
REFRESH-INTERVAL:P3D
CALSCALE:GREGORIAN
BEGIN:VEVENT
DTSTART:20140615T010000Z
DTEND:20140615T040000Z
X-MICROSOFT-CDO-ALLDAYEVENT:FALSE
SUMMARY:Paella Dinner at Castillo de Feliciana Winery
DESCRIPTION:Save the Date - Saturday\, June 14th\, Castillo de Feliciana Winery Paella Dinner with a special intimate Flamenco performance by Eric & Encarnaci n's Duo Flamenco.  6 p.m. Paella Dinner\, Flamenco Performance at 7:30 p.m.  More info to follow.  This is an event you don't want to miss!  Contact info:  Winery 541 558-3656 or email info@castillodefeliciana.com.
X-ALT-DESC;FMTTYPE=text/html:Save the Date - Saturday\, June 14th\, Castillo de Feliciana Winery Paella Dinner with a special intimate Flamenco performance by Eric &amp\; Encarnaci&oacute\;n&#39\;s Duo Flamenco.&nbsp\; 6 p.m. Paella Dinner\, Flamenco Performance at 7:30 p.m.&nbsp\; More info to follow.&nbsp\; This is an event you don&#39\;t want to miss!&nbsp\; Contact info:&nbsp\; Winery 541 558-3656 or email info@castillodefeliciana.com.
LOCATION:Castillo de Feliciana Winery 85728 Telephone Pole Rd Milton-Freewater\, OR
UID:e.65.1686
SEQUENCE:3
DTSTAMP:20260421T205541Z
URL:https://business.wwvchamber.com/events/details/paella-dinner-at-castillo-de-feliciana-winery-06-14-2014-1686
END:VEVENT

END:VCALENDAR
