BEGIN:VCALENDAR
VERSION:2.0
PRODID:-//ChamberMaster//Event Calendar 2.0//EN
METHOD:PUBLISH
X-PUBLISHED-TTL:P3D
REFRESH-INTERVAL:P3D
CALSCALE:GREGORIAN
BEGIN:VEVENT
DTSTART;VALUE=DATE:20141006
DTEND;VALUE=DATE:20141009
TRANSP:TRANSPARENT
X-MICROSOFT-CDO-ALLDAYEVENT:TRUE
SUMMARY:Paint the Wine Country & Blue Mountains with Jim Lamb
DESCRIPTION:Come join us along the Old Oregon Trail for an exciting three-day plain air workshop painting the historical landscapes\, Blue Mountains\, and the renowned Walla Walla vineyards\, with Jim Lamb.
X-ALT-DESC;FMTTYPE=text/html:Come join us along the Old Oregon Trail for an exciting three-day plain air workshop painting the historical landscapes\, Blue Mountains\, and the renowned Walla Walla vineyards\, with Jim Lamb.
LOCATION:
UID:e.65.1932
SEQUENCE:3
DTSTAMP:20260421T121812Z
URL:https://business.wwvchamber.com/events/details/paint-the-wine-country-blue-mountains-with-jim-lamb-10-06-2014-1932
END:VEVENT

END:VCALENDAR
