BEGIN:VCALENDAR
VERSION:2.0
PRODID:-//ChamberMaster//Event Calendar 2.0//EN
METHOD:PUBLISH
X-PUBLISHED-TTL:P3D
REFRESH-INTERVAL:P3D
CALSCALE:GREGORIAN
BEGIN:VEVENT
DTSTART:20140509T233000Z
DTEND:20140510T020000Z
X-MICROSOFT-CDO-ALLDAYEVENT:FALSE
SUMMARY:Pastime Spaghetti Dinner
DESCRIPTION:Tickets available now! Please join us for our famous Old Fashioned Spaghetti Dinner complete with meatballs\, meat sauce or vegetarian meatballs\, salad bar\, garlic bread\, and spumoni ice cream\, coffee\, tea.  An assortment of local wines will be available for purchase too.\n\nDinner will be prepared by legendary Pastime Restaurant owner Bob Fazzari.\n\nLight musical entertainment will accompany dinner\, including Horace Lazzari Accordianist\, Roger and Dalene Johnson on violin\, and pianist Mary Barrett\, Dick Robison\, and Pat Yenney.\n\nOpen seatings are 4:30-6:00 and 6:00-7:00 PM\n\nTickets are only $12.00 sold in advance or at the door (subject to availability). All ages welcome.\n\nCheck\, cash\, and credit cards accepted. This is our Spaghetti Dinner's 4th year\, raising funds to support the Senior Round Table Meals on Wheels program at the Senior Center.
X-ALT-DESC;FMTTYPE=text/html:Tickets available now! Please join us for our famous Old Fashioned Spaghetti Dinner complete with meatballs\, meat sauce or vegetarian meatballs\, salad bar\, garlic bread\, and spumoni ice cream\, coffee\, tea.&nbsp\; An assortment of local wines will be available for purchase too.<br />\nDinner will be prepared by legendary Pastime Restaurant owner Bob Fazzari.<br />\nLight musical entertainment will accompany dinner\, including Horace Lazzari Accordianist\, Roger and Dalene Johnson on violin\, and pianist Mary Barrett\, Dick Robison\, and Pat Yenney.<br />\nOpen seatings are 4:30-6:00 and 6:00-7:00 PM<br />\nTickets are only $12.00 sold in advance or at the door (subject to availability). All ages welcome.<br />\nCheck\, cash\, and credit cards accepted. This is our Spaghetti Dinner&#39\;s 4th year\, raising funds to support the Senior Round Table Meals on Wheels program at the Senior Center.<br />\n&nbsp\;
LOCATION:Walla Walla Senior Citizens Center (The Center at the Park) 720 Sprague Street (Jefferson Park)
UID:e.65.1666
SEQUENCE:3
DTSTAMP:20260421T211011Z
URL:https://business.wwvchamber.com/events/details/pastime-spaghetti-dinner-05-09-2014-1666
END:VEVENT

END:VCALENDAR
