BEGIN:VCALENDAR
VERSION:2.0
PRODID:-//ChamberMaster//Event Calendar 2.0//EN
METHOD:PUBLISH
X-PUBLISHED-TTL:P3D
REFRESH-INTERVAL:P3D
CALSCALE:GREGORIAN
BEGIN:VEVENT
DTSTART:20140802T020000Z
DTEND:20140802T050000Z
X-MICROSOFT-CDO-ALLDAYEVENT:FALSE
SUMMARY:Paul Thorn live at Main Street Studios
DESCRIPTION:Thorn has been pleasing crowds for years with his muscular brand of roots music - bluesy\, rocking and thoroughly Southern\, yet also speaking universal truths. The Tupelo\, Mississippi native worked in a furniture factory\, jumped out of airplanes\, and was a professional boxer before sharing his experiences with the world as a singer-songwriter. Pimps and Preachers\, which topped the Americana charts for three weeks and broke into the Billboard Top 100\, perfectly exemplified the vivid scope of his songwriting and illuminated his family background.
X-ALT-DESC;FMTTYPE=text/html:Thorn has been pleasing crowds for years with his muscular brand of roots music - bluesy\, rocking and thoroughly Southern\, yet also speaking universal truths. The Tupelo\, Mississippi native worked in a furniture factory\, jumped out of airplanes\, and was a professional boxer before sharing his experiences with the world as a singer-songwriter. Pimps and Preachers\, which topped the Americana charts for three weeks and broke into the Billboard Top 100\, perfectly exemplified the vivid scope of his songwriting and illuminated his family background.
LOCATION:Main Street Studios 207 West Main Street\, Walla Walla\, WA 99362
UID:e.65.1864
SEQUENCE:3
DTSTAMP:20260421T161013Z
URL:https://business.wwvchamber.com/events/details/paul-thorn-live-at-main-street-studios-08-01-2014-1864
END:VEVENT

END:VCALENDAR
