BEGIN:VCALENDAR
VERSION:2.0
PRODID:-//ChamberMaster//Event Calendar 2.0//EN
METHOD:PUBLISH
X-PUBLISHED-TTL:P3D
REFRESH-INTERVAL:P3D
CALSCALE:GREGORIAN
BEGIN:VEVENT
DTSTART:20140830T190000Z
DTEND:20140830T230000Z
X-MICROSOFT-CDO-ALLDAYEVENT:FALSE
SUMMARY:Pepper Bridge Winery Summer Concert Series
DESCRIPTION:The vines are growing\, the wines are flowing - and if those aren't reason enough to visit us at Pepper Bridge Winery\, we've here are a few more to add the list! Saturday\, August 30th\, Pepper Bridge Winery will feature LIVE MUSIC by James Dean Kindle from 1pm to 3pm and we will host West of the Blues BBQ as they crank out their smoky delicious noshes from 12pm to 4pm. Limited amounts of our *SOLD OUT* Sauvignon Blanc by the glass and by the bottle will be flowing. Do not miss out\, try them Saturday. See you there!
X-ALT-DESC;FMTTYPE=text/html:The vines are growing\, the wines are flowing - and if those aren&#39\;t reason enough to visit us at Pepper Bridge Winery\, we&#39\;ve here are a few more to add the list! Saturday\, August 30th\, Pepper Bridge Winery will feature LIVE MUSIC by James Dean Kindle from 1pm to 3pm and we will host West of the Blues BBQ as they crank out their smoky delicious noshes from 12pm to 4pm. Limited amounts of our *SOLD OUT* Sauvignon Blanc by the glass and by the bottle will be flowing. Do not miss out\, try them Saturday. See you there!
LOCATION:Pepper Bridge Winery 1704 J.B. George Road Walla Walla\, WA 99362
UID:e.65.1913
SEQUENCE:3
DTSTAMP:20260421T172303Z
URL:https://business.wwvchamber.com/events/details/pepper-bridge-winery-summer-concert-series-08-30-2014-1913
END:VEVENT

END:VCALENDAR
