BEGIN:VCALENDAR
VERSION:2.0
PRODID:-//ChamberMaster//Event Calendar 2.0//EN
METHOD:PUBLISH
X-PUBLISHED-TTL:P3D
REFRESH-INTERVAL:P3D
CALSCALE:GREGORIAN
BEGIN:VEVENT
DTSTART:20140504T020000Z
DTEND:20140504T050000Z
X-MICROSOFT-CDO-ALLDAYEVENT:FALSE
SUMMARY:Pepper Bridge Winery Winemaker Dinner
DESCRIPTION:Wine and Dine with Winemaker Jean-Fran ois Pellet\n\n7:00 pm Dinner | $120. per person\n\nRSVP: 1-509-525-6502 | lisa@pepperbridge.com\nMenu\nAppetizers\n\nMini Crab Cakes\n\nPulled Pork Mini Tacos\n\nVenison Tenderloin Crostini\n\nCrudites Shots\n\nDinner\n\nDuck Confit & Arugula Salad\n\nSmoked Chili Short Ribs\n\nDesert\n\nChoclate Terrine with Flathead Cherry Coulis\n\nMeal prepared by Bravo Catering from Missoula\, Montana\n\nPlease let us know if you have any food preferences or allergies\n\nPepper Bridge Winery. 1704 J.B George Road\, Walla Walla\, WA 99362\n\nCall\n\nSend SMS\n\nAdd to Skype\n\nYou'll need Skype CreditFree via Skype
X-ALT-DESC;FMTTYPE=text/html:Wine and Dine with Winemaker Jean-Fran&ccedil\;ois Pellet<br />\n7:00 pm Dinner | $120. per person<br />\nRSVP: 1-509-525-6502 | lisa@pepperbridge.com\n<h2 style="font-style:italic\;">Menu</h2>\nAppetizers<br />\nMini Crab Cakes<br />\nPulled Pork Mini Tacos<br />\nVenison Tenderloin Crostini<br />\nCrudites Shots<br />\nDinner<br />\nDuck Confit &amp\; Arugula Salad<br />\nSmoked Chili Short Ribs<br />\nDesert<br />\nChoclate Terrine with Flathead Cherry Coulis<br />\nMeal prepared by Bravo Catering from Missoula\, Montana<br />\nPlease let us know if you have any food preferences or allergies<br />\nPepper Bridge Winery. 1704 J.B George Road\, Walla Walla\, WA 99362\n<div class="skype_c2c_menu_container" id="skype_c2c_menu_container" onmouseout="SkypeClick2Call.MenuInjectionHandler.hideMenu(event)" onmouseover="SkypeClick2Call.MenuInjectionHandler.showMenu(this\, event)" style="display: none\;">\n<div class="skype_c2c_menu_click2call"><a class="skype_c2c_menu_click2call_action" id="skype_c2c_menu_click2call_action">Call</a></div>\n\n<div class="skype_c2c_menu_click2sms"><a class="skype_c2c_menu_click2sms_action" id="skype_c2c_menu_click2sms_action">Send SMS</a></div>\n\n<div class="skype_c2c_menu_add2skype"><a class="skype_c2c_menu_add2skype_text" id="skype_c2c_menu_add2skype_text">Add to Skype</a></div>\n\n<div class="skype_c2c_menu_toll_info"><span class="skype_c2c_menu_toll_callcredit">You&#39\;ll need Skype Credit</span><span class="skype_c2c_menu_toll_free">Free via Skype</span></div>\n</div>\n
LOCATION:Pepper Bridge Winery
UID:e.65.1657
SEQUENCE:3
DTSTAMP:20260421T210930Z
URL:https://business.wwvchamber.com/events/details/pepper-bridge-winery-winemaker-dinner-05-03-2014-1657
END:VEVENT

END:VCALENDAR
