BEGIN:VCALENDAR
VERSION:2.0
PRODID:-//ChamberMaster//Event Calendar 2.0//EN
METHOD:PUBLISH
X-PUBLISHED-TTL:P3D
REFRESH-INTERVAL:P3D
CALSCALE:GREGORIAN
BEGIN:VEVENT
DTSTART:20140302T030000Z
DTEND:20140302T070000Z
X-MICROSOFT-CDO-ALLDAYEVENT:FALSE
SUMMARY:Pink Ball 2014
DESCRIPTION:Pink Ball is the largest fund-raising event of the year for Just Us Girls Sharing.  JUGS is a local organization that helps cancer patients make ends meet when no one else can.   This year Pink Ball on March 1\, 2014 includes dinner\, signature cocktails\, wine\, a runway show\, survivor tribute and dancing. VIP tickets also include a champagne reception with appetizers\, reserved seating for the runway show\, and more!   Ticket levels: $50 for regular ticket $75 for VIP ticket $500 for VIP Table of 8 Tickets also available at:  Bliss Spa & Salon\, C Salon\, Four Feathered Sparrow and Holly's Flowers.  For more information contact:  Traci Jensen\, Event Chair at: 503-816-0212 Semi-formal or Formal Attire Limited seating available
X-ALT-DESC;FMTTYPE=text/html:Pink Ball is the largest fund-raising event of the year for Just Us Girls Sharing. &nbsp\;JUGS is a local organization that helps cancer patients make ends meet when no one else can. &nbsp\; This year Pink Ball on March 1\, 2014 includes dinner\, signature cocktails\, wine\, a runway show\, survivor tribute and dancing. VIP tickets also include a champagne reception with appetizers\, reserved seating for the runway show\, and more! &nbsp\; Ticket levels: $50 for regular ticket $75 for VIP ticket $500 for VIP Table of 8 Tickets also available at: &nbsp\;Bliss Spa &amp\; Salon\, C Salon\, Four Feathered Sparrow and Holly&#39\;s Flowers. &nbsp\;For more information contact: &nbsp\;Traci Jensen\, Event Chair at: 503-816-0212 Semi-formal or Formal Attire Limited seating available
LOCATION:Walla Walla Fairgrounds Pavilion
UID:e.65.1621
SEQUENCE:3
DTSTAMP:20260422T022219Z
URL:https://business.wwvchamber.com/events/details/pink-ball-2014-03-01-2014-1621
END:VEVENT

END:VCALENDAR
