BEGIN:VCALENDAR
VERSION:2.0
PRODID:-//ChamberMaster//Event Calendar 2.0//EN
METHOD:PUBLISH
X-PUBLISHED-TTL:P3D
REFRESH-INTERVAL:P3D
CALSCALE:GREGORIAN
BEGIN:VEVENT
DTSTART:20140614T153000Z
DTEND:20140614T180000Z
X-MICROSOFT-CDO-ALLDAYEVENT:FALSE
SUMMARY:Pioneer 5K Fun Run & Walk
DESCRIPTION:5K Fun Run & Walk in Milton-Freewater\, Oregon. A flat course through the town of Milton-Freewater. Starting and ending at 6th and N. Main street in downtown Old Freewater. All proceeds are donated to the Milton-Freewater High School Athletic Dept. A pair of Brooks Running shoes will be presented to the overall winner of the men?s and women?s division. Awards will be given to the top 3 of each age division for men and women. The first 100 pre-registered runners will receive a race t-shirt and SWAG bag. Race day registrants will receive a t-shirt and SWAG bag while supplies last. All participants are eligible to win a raffle prize at the conclusion of the race and are encouraged to stay and enjoy complimentary food and drinks.
X-ALT-DESC;FMTTYPE=text/html:5K Fun Run &amp\; Walk in Milton-Freewater\, Oregon. A flat course through the town of Milton-Freewater. Starting and ending at 6th and N. Main street in downtown Old Freewater. All proceeds are donated to the Milton-Freewater High School Athletic Dept. A pair of Brooks Running shoes will be presented to the overall winner of the men?s and women?s division. Awards will be given to the top 3 of each age division for men and women. The first 100 pre-registered runners will receive a race t-shirt and SWAG bag. Race day registrants will receive a t-shirt and SWAG bag while supplies last. All participants are eligible to win a raffle prize at the conclusion of the race and are encouraged to stay and enjoy complimentary food and drinks.
LOCATION:6th & N. Main Street Milton-Freewater\, OR 97862
UID:e.65.1747
SEQUENCE:3
DTSTAMP:20260421T194716Z
URL:https://business.wwvchamber.com/events/details/pioneer-5k-fun-run-walk-06-14-2014-1747
END:VEVENT

END:VCALENDAR
