BEGIN:VCALENDAR
VERSION:2.0
PRODID:-//ChamberMaster//Event Calendar 2.0//EN
METHOD:PUBLISH
X-PUBLISHED-TTL:P3D
REFRESH-INTERVAL:P3D
CALSCALE:GREGORIAN
BEGIN:VEVENT
DTSTART:20260411T170000Z
DTEND:20260411T190000Z
X-MICROSOFT-CDO-ALLDAYEVENT:FALSE
SUMMARY:Plant Propagation Workshop
DESCRIPTION:Learn to grow plants\, allowing you to produce an array of vegetable\, flower\, native\, shrub and tree varieties cheaply and easily. This hands on workshop will go over soft and hardwood cuttings\, division\, layering\, bulb and tuber propagation\, seed propagation and how to successfully transplant seedlings. Discover the best conditions\, seasons\, how to care for seedlings and more! Everyone will leave with plenty of plants to grow\, nurture\, and enjoy at home. Payment optional\, registration required!
X-ALT-DESC;FMTTYPE=text/html:Learn to grow plants\, allowing you to produce an array of vegetable\, flower\, native\, shrub and tree varieties cheaply and easily. This hands on workshop will go over soft and hardwood cuttings\, division\, layering\, bulb and tuber propagation\, seed propagation and how to successfully transplant seedlings. Discover the best conditions\, seasons\, how to care for seedlings and more! Everyone will leave with plenty of plants to grow\, nurture\, and enjoy at home. Payment optional\, registration required!
LOCATION:WWCC Water & Environmental Center 640 Water Center Dr. Walla Walla\, WA 99362
UID:e.65.21946
SEQUENCE:3
DTSTAMP:20260425T144121Z
URL:https://business.wwvchamber.com/events/details/plant-propagation-workshop-21946
END:VEVENT

END:VCALENDAR
