BEGIN:VCALENDAR
VERSION:2.0
PRODID:-//ChamberMaster//Event Calendar 2.0//EN
METHOD:PUBLISH
X-PUBLISHED-TTL:P3D
REFRESH-INTERVAL:P3D
CALSCALE:GREGORIAN
BEGIN:VEVENT
DTSTART:20140923T163000Z
DTEND:20141028T183000Z
X-MICROSOFT-CDO-ALLDAYEVENT:FALSE
SUMMARY:Poetry Writing Class
DESCRIPTION:Walla Walla Senior Citizens Center is offering a new Poetry Writing class taught by Dr. Robert Boehm. This class runs every Tuesday at 9:30 to 11:30 from September 23 to October 28 and costs $60.00.  Please call 527-3775 or come in to the Senior Center at 720 Spague to register.
X-ALT-DESC;FMTTYPE=text/html:Walla Walla Senior Citizens Center is offering a new Poetry Writing class taught by Dr. Robert Boehm. This class runs every Tuesday at 9:30 to 11:30&nbsp\;from September 23 to October 28 and costs $60.00. &nbsp\;Please call 527-3775 or come in to the Senior Center at 720 Spague to register.
LOCATION:Walla Walla Senior Center
UID:e.65.1918
SEQUENCE:3
DTSTAMP:20260421T121114Z
URL:https://business.wwvchamber.com/events/details/poetry-writing-class-09-23-2014-1918
END:VEVENT

END:VCALENDAR
