BEGIN:VCALENDAR
VERSION:2.0
PRODID:-//ChamberMaster//Event Calendar 2.0//EN
METHOD:PUBLISH
X-PUBLISHED-TTL:P3D
REFRESH-INTERVAL:P3D
CALSCALE:GREGORIAN
BEGIN:VEVENT
DTSTART:20140601T020000Z
DTEND:20140601T040000Z
X-MICROSOFT-CDO-ALLDAYEVENT:FALSE
SUMMARY:Poncho Sanchez and His Latin Jazz Ensemble
DESCRIPTION:For more than three decades as both a leader and a sideman\, Grammy  Award-winning percussionist Poncho Sanchez has been described as a kaleidoscopic swirl of Latin jazz\, swing\, bebop and salsa. By his teen years\, his musical consciousness had been solidified by the likes of John Coltrane\, Miles Davis\, Cal Tjader\, Mongo Santamar a\, and James Brown. Sanchez\, who recently celebrated his 30th anniversary as a Concord Picante artist with the 2012 release Live in Hollywood. Poncho Sanchez makes his Waterbrook Winery\, and Walla Walla\, Debut. The percussionist will be joined by his acclaimed 8-piece Latin Jazz Band. Waterbrook Winery in Walla Walla\, WA on Saturday\, May 31st 7:00pm
X-ALT-DESC;FMTTYPE=text/html:For more than three decades as both a leader and a sideman\, Grammy&reg\; Award-winning percussionist Poncho Sanchez has been described as a kaleidoscopic swirl of Latin jazz\, swing\, bebop and salsa. By his teen years\, his musical consciousness had been solidified by the likes of John Coltrane\, Miles Davis\, Cal Tjader\, Mongo Santamar&iacute\;a\, and James Brown. Sanchez\, who recently celebrated his 30th anniversary as a Concord Picante artist with the 2012 release Live in Hollywood.&nbsp\;Poncho Sanchez makes his Waterbrook Winery\, and Walla Walla\, Debut. The percussionist will be joined by his acclaimed 8-piece Latin Jazz Band. Waterbrook Winery in Walla Walla\, WA on Saturday\, May 31st 7:00pm
LOCATION:Waterbrook Winery 10518 West Highway 12 Walla Walla\, WA 99362
UID:e.65.1760
SEQUENCE:3
DTSTAMP:20260421T211238Z
URL:https://business.wwvchamber.com/events/details/poncho-sanchez-and-his-latin-jazz-ensemble-05-31-2014-1760
END:VEVENT

END:VCALENDAR
