BEGIN:VCALENDAR
VERSION:2.0
PRODID:-//ChamberMaster//Event Calendar 2.0//EN
METHOD:PUBLISH
X-PUBLISHED-TTL:P3D
REFRESH-INTERVAL:P3D
CALSCALE:GREGORIAN
BEGIN:VEVENT
DTSTART:20140913T180000Z
DTEND:20140914T190000Z
X-MICROSOFT-CDO-ALLDAYEVENT:FALSE
SUMMARY:Predators of the Heart: Wildlife Program
DESCRIPTION:Predators of the Heart: Wildlife Program is coming to Walla Walla on Saturday and Sunday\, September 13th-14th! Predators of the Heart illustrates biblical truth through God's unique creations: an array of wild and exotic animals! Their mission is to expose the predator of sin that comes to steal the heart and destroy ones future\, while communicating a message of forgiveness and hope through Jesus Christ. This is a free\, family event featuring multiple showings: Saturday at 11 am and 2 pm and Sunday at 10:30 am. On Saturday\, bring your lawn chairs and blankets and head to the First Assembly's back lawn to enjoy the show! (Sunday's presentation will take place in First Assembly's sanctuary.)
X-ALT-DESC;FMTTYPE=text/html:Predators of the Heart: Wildlife Program is coming to Walla Walla on Saturday and Sunday\, September 13th-14th! Predators of the Heart illustrates biblical truth through God&#39\;s unique creations: an array of wild and exotic animals! Their mission is to expose the predator of sin that comes to steal the heart and destroy ones future\, while communicating a message of forgiveness and hope through Jesus Christ. This is a free\, family event featuring multiple showings: Saturday at 11 am and 2 pm and Sunday at 10:30 am. On Saturday\, bring your lawn chairs and blankets and head to the First Assembly&#39\;s back lawn to enjoy the show! (Sunday&#39\;s presentation will take place in First Assembly&#39\;s sanctuary.)
LOCATION:First Assembly of God 1919 Fern Avenue Walla Walla\, WA 99362
UID:e.65.1900
SEQUENCE:3
DTSTAMP:20260421T154251Z
URL:https://business.wwvchamber.com/events/details/predators-of-the-heart-wildlife-program-09-13-2014-1900
END:VEVENT

END:VCALENDAR
