BEGIN:VCALENDAR
VERSION:2.0
PRODID:-//ChamberMaster//Event Calendar 2.0//EN
METHOD:PUBLISH
X-PUBLISHED-TTL:P3D
REFRESH-INTERVAL:P3D
CALSCALE:GREGORIAN
BEGIN:VEVENT
DTSTART:20140405T180000Z
DTEND:20140406T220000Z
X-MICROSOFT-CDO-ALLDAYEVENT:FALSE
SUMMARY:Prom Event!
DESCRIPTION:LAILA Design Studio is proud to offer a congregation of specialty attire including\, Prom Dresses\, Brides Maid Dresses\, Tuxedo Rentals\, Kathryn & Alexandra custom bridal gowns\, Professional Alterations and more!\n\n \n\nPurchase or order your prom dress on Saturday or Sunday and receive a 15% discount! Tuxedo rentals receive a 10% discount! Attendees can also enter a drawing for a complimentary spa treatment just for filling out our survey.
X-ALT-DESC;FMTTYPE=text/html:<span style="font-size:16px\;"><span style="font-family:comic sans ms\;"><em><a href="https://www.facebook.com/LailaDesignWallaWalla">LAILA&nbsp\;Design Studio </a>is proud to offer a congregation of specialty attire including\, Prom Dresses\, Brides Maid Dresses\, Tuxedo Rentals\, Kathryn &amp\; Alexandra custom bridal gowns\, Professional Alterations and more!</em></span></span><br />\n&nbsp\;<br />\n<span style="font-size:16px\;"><span style="font-family:comic sans ms\;">Purchase or order your prom dress on Saturday or Sunday and receive a 15% discount! Tuxedo rentals receive a 10% discount! Attendees can also enter a drawing for a complimentary spa treatment just for filling out our survey.</span></span>
LOCATION:LAILA Design Studio 343 S. Second Avenue Walla Walla\, WA (509) 301-2758
UID:e.65.1671
SEQUENCE:3
DTSTAMP:20260421T224233Z
URL:https://business.wwvchamber.com/events/details/prom-event-04-05-2014-1671
END:VEVENT

END:VCALENDAR
