BEGIN:VCALENDAR
VERSION:2.0
PRODID:-//ChamberMaster//Event Calendar 2.0//EN
METHOD:PUBLISH
X-PUBLISHED-TTL:P3D
REFRESH-INTERVAL:P3D
CALSCALE:GREGORIAN
BEGIN:VEVENT
DTSTART:20141113T160000Z
DTEND:20141115T040000Z
X-MICROSOFT-CDO-ALLDAYEVENT:FALSE
SUMMARY:Providence St. Mary Christmas Fantasy Fundraiser
DESCRIPTION:The Providence St. Mary Medical Center Volunteers are hosting the Christmas Fantasy Fundraiser in the North Lobby of the Hospital. The event will be from November 13-14 from 8AM - 8PM\, on both days. All proceeds benefit the Providence St. Mary Service League. Support a great cause while shopping our fabulous selection of holiday items\, including: Willow Tree\, Kitchen and Wine Accessories\, Religious and Inspirational\, Jewelry\, and so much more.
X-ALT-DESC;FMTTYPE=text/html:The Providence St. Mary Medical Center Volunteers are hosting the Christmas Fantasy Fundraiser in the North Lobby of the Hospital. The event will be from November 13-14 from 8AM - 8PM\, on both days. All proceeds benefit the Providence St. Mary Service League. Support a great cause while shopping our fabulous selection of holiday items\, including: Willow Tree\, Kitchen and Wine Accessories\, Religious and Inspirational\, Jewelry\, and so much more.
LOCATION:Providence St. Mary Medical Center North Lobby
UID:e.65.2013
SEQUENCE:3
DTSTAMP:20260421T133526Z
URL:https://business.wwvchamber.com/events/details/providence-st-mary-christmas-fantasy-fundraiser-11-13-2014-2013
END:VEVENT

END:VCALENDAR
