BEGIN:VCALENDAR
VERSION:2.0
PRODID:-//ChamberMaster//Event Calendar 2.0//EN
METHOD:PUBLISH
X-PUBLISHED-TTL:P3D
REFRESH-INTERVAL:P3D
CALSCALE:GREGORIAN
BEGIN:VEVENT
DTSTART:20260418T183000Z
DTEND:20260418T230000Z
X-MICROSOFT-CDO-ALLDAYEVENT:FALSE
SUMMARY:Putt Putt Pour
DESCRIPTION:Get ready for a one-of-a-kind mini golf experience in the heart of historic downtown Walla Walla! The Putt Putt Pour Mini Golf Tournament is your chance to enjoy a fun-filled day of golf\, great drinks\, and lively competition all while supporting United Way of the Blue Mountains and our efforts to strengthen the community. Join us on April 18th for a unique Heroes and Villains adventure as you putt your way through a custom-designed course that winds through some of the best wineries\, breweries\, and restaurants in town. Gather your team\, dress in your costume for a chance to win the Best Dressed award and get ready for an unforgettable day!
X-ALT-DESC;FMTTYPE=text/html:Get ready for a one-of-a-kind mini golf experience in the heart of historic downtown Walla Walla! The Putt Putt Pour Mini Golf Tournament is your chance to enjoy a fun-filled day of golf\, great drinks\, and lively competition&mdash\;all while supporting United Way of the Blue Mountains and our efforts to strengthen the community. Join us on April 18th for a unique Heroes and Villains adventure as you putt your way through a custom-designed course that winds through some of the best wineries\, breweries\, and restaurants in town. Gather your team\, dress in your costume for a chance to win the Best Dressed award and get ready for an unforgettable day!
LOCATION:Heritage Square Park 116 E Main St. Walla Walla\, WA 99362
UID:e.65.21924
SEQUENCE:3
DTSTAMP:20260425T144224Z
URL:https://business.wwvchamber.com/events/details/putt-putt-pour-21924
END:VEVENT

END:VCALENDAR
