BEGIN:VCALENDAR
VERSION:2.0
PRODID:-//ChamberMaster//Event Calendar 2.0//EN
METHOD:PUBLISH
X-PUBLISHED-TTL:P3D
REFRESH-INTERVAL:P3D
CALSCALE:GREGORIAN
BEGIN:VEVENT
DTSTART:20140726T020000Z
DTEND:20140726T050000Z
X-MICROSOFT-CDO-ALLDAYEVENT:FALSE
SUMMARY:Rags and Ribbons & Tommy Simmons
DESCRIPTION:Rags & Ribbons play melodic rock anthems driven by classically-inspired piano. Progressive and post-rock influences by way of Queen\, Muse\, Arcade Fire and Sigur Ros color these intricate pop songs\, expressing desire\, yearning\, regret and joy like only pop can. The city of Seattle\, WA has long been considered a hot-bed of musical talent. Tommy Simmons has only strengthened this perception. Fueled by his soulful voice\, up-lifting songwriting\, and dynamic stage presence\, the singer-songwriter has built a buzz that is breaking the borders of the Pacific Northwest and beginning to reverberate around the nation. Molded in the likes of John Mayer\, Jack Johnson\, and Jason Mraz\, Tommy has created a unique sound that appeals to a very broad audience\, which is evident by his constantly growing fan base.
X-ALT-DESC;FMTTYPE=text/html:Rags &amp\; Ribbons play melodic rock anthems driven by classically-inspired piano. Progressive and post-rock influences by way of Queen\, Muse\, Arcade Fire and Sigur Ros color these intricate pop songs\, expressing desire\, yearning\, regret and joy like only pop can. The city of Seattle\, WA has long been considered a hot-bed of musical talent. Tommy Simmons has only strengthened this perception. Fueled by his soulful voice\, up-lifting songwriting\, and dynamic stage presence\, the singer-songwriter has built a buzz that is breaking the borders of the Pacific Northwest and beginning to reverberate around the nation. Molded in the likes of John Mayer\, Jack Johnson\, and Jason Mraz\, Tommy has created a unique sound that appeals to a very broad audience\, which is evident by his constantly growing fan base.
LOCATION:Main Street Studios 207 West Main Street\, Walla Walla\, WA 99362
UID:e.65.1862
SEQUENCE:3
DTSTAMP:20260421T180532Z
URL:https://business.wwvchamber.com/events/details/rags-and-ribbons-tommy-simmons-07-25-2014-1862
END:VEVENT

END:VCALENDAR
