BEGIN:VCALENDAR
VERSION:2.0
PRODID:-//ChamberMaster//Event Calendar 2.0//EN
METHOD:PUBLISH
X-PUBLISHED-TTL:P3D
REFRESH-INTERVAL:P3D
CALSCALE:GREGORIAN
BEGIN:VEVENT
DTSTART:20140628T023000Z
DTEND:20140628T043000Z
X-MICROSOFT-CDO-ALLDAYEVENT:FALSE
SUMMARY:Randy McAllister - Live in Concert!
DESCRIPTION:Key Technology presents a live concert by Randy McAllister\, one of the premier singer/songwriter/multi-instrumentalists to emerge from Texas. McAllister is a Grammy-nominated musical powerhouse with a strong\, soulful voice\, command of a variety of instruments\, and his high energy concerts have earned glowing reviews around the world. If Mark Twain had envisioned a 21st century roots musician\, he might have created a character like Randy McAllister\, with an easy-going persona and a wry\, and an observant wit. McAllister weaves material in the singer/songwriter tradition\, with nods to a variety of styles. He is one of those rare artists who is able to meld genres such as gospel\, blues\, country\, Tex-Mex\, rock and zydeco together and come away with something that is uniquely him.
X-ALT-DESC;FMTTYPE=text/html:Key Technology presents a live concert by Randy McAllister\, one of the premier singer/songwriter/multi-instrumentalists to emerge from Texas. McAllister is a Grammy-nominated musical powerhouse with a strong\, soulful voice\, command of a variety of instruments\, and his high energy concerts have earned glowing reviews around the world. If Mark Twain had envisioned a 21st century roots musician\, he might have created a character like Randy McAllister\, with an easy-going persona and a wry\, and an observant wit. McAllister weaves material in the singer/songwriter tradition\, with nods to a variety of styles. He is one of those rare artists who is able to meld genres such as gospel\, blues\, country\, Tex-Mex\, rock and zydeco together and come away with something that is uniquely him.
LOCATION:Gesa Power House Theatre
UID:e.65.1804
SEQUENCE:3
DTSTAMP:20260421T223728Z
URL:https://business.wwvchamber.com/events/details/randy-mcallister-live-in-concert-06-27-2014-1804
END:VEVENT

END:VCALENDAR
