BEGIN:VCALENDAR
VERSION:2.0
PRODID:-//ChamberMaster//Event Calendar 2.0//EN
METHOD:PUBLISH
X-PUBLISHED-TTL:P3D
REFRESH-INTERVAL:P3D
CALSCALE:GREGORIAN
BEGIN:VEVENT
DTSTART:20240530T230000Z
DTEND:20240531T010000Z
X-MICROSOFT-CDO-ALLDAYEVENT:FALSE
SUMMARY:Ribbon Cutting | Heritage Clinic
DESCRIPTION:Join us for a Ribbon Cutting to celebrate the grand opening of the Heritage Clinic!  They will have an open house until 6 pm.\n\n\n\nRibbon Cuttings are free and open to the public.
X-ALT-DESC;FMTTYPE=text/html:<br />\n<br />\n<span style="font-size:16px\;"><span style="font-family:arial\;">Join us for a Ribbon Cutting to celebrate the grand opening of the Heritage Clinic!&nbsp\; They will have an open house until 6 pm.<br />\n<br />\nRibbon Cuttings are free and open to the public.</span></span>
LOCATION:1129 S 2nd Ave suite B Walla Walla\, WA 99362
UID:e.65.19729
SEQUENCE:3
DTSTAMP:20260425T174355Z
URL:https://business.wwvchamber.com/events/details/ribbon-cutting-heritage-clinic-19729
END:VEVENT

END:VCALENDAR
