BEGIN:VCALENDAR
VERSION:2.0
PRODID:-//ChamberMaster//Event Calendar 2.0//EN
METHOD:PUBLISH
X-PUBLISHED-TTL:P3D
REFRESH-INTERVAL:P3D
CALSCALE:GREGORIAN
BEGIN:VEVENT
DTSTART:20140824T023000Z
DTEND:20140824T043000Z
X-MICROSOFT-CDO-ALLDAYEVENT:FALSE
SUMMARY:Rogue Lobster
DESCRIPTION:The Direct Current Concert Series continues with Walla Walla group Rogue Lobster\, playing folksy Americana tunes\, bluegrass\, and original compositions. Rogue Lobster are: Adam Kirtley\, Libby Arnosti\, Jerry Yokel\, and JR van Slyke. Beer and wine available starting at 7:00 p.m.
X-ALT-DESC;FMTTYPE=text/html:The Direct Current Concert Series continues with Walla Walla group Rogue Lobster\, playing folksy Americana tunes\, bluegrass\, and original compositions. Rogue Lobster are: Adam Kirtley\, Libby Arnosti\, Jerry Yokel\, and JR van Slyke. Beer and wine available starting at 7:00 p.m.
LOCATION:Gesa Power House Theatre
UID:e.65.1840
SEQUENCE:3
DTSTAMP:20260421T160557Z
URL:https://business.wwvchamber.com/events/details/rogue-lobster-08-23-2014-1840
END:VEVENT

END:VCALENDAR
