BEGIN:VCALENDAR
VERSION:2.0
PRODID:-//ChamberMaster//Event Calendar 2.0//EN
METHOD:PUBLISH
X-PUBLISHED-TTL:P3D
REFRESH-INTERVAL:P3D
CALSCALE:GREGORIAN
BEGIN:VEVENT
DTSTART:20140712T223000Z
DTEND:20140713T013000Z
X-MICROSOFT-CDO-ALLDAYEVENT:FALSE
SUMMARY:Rotary Salmon Bake
DESCRIPTION:
X-ALT-DESC;FMTTYPE=text/html:
LOCATION:Walla Walla County Fairgrounds\, Community Building
UID:e.65.1831
SEQUENCE:3
DTSTAMP:20260421T180021Z
URL:https://business.wwvchamber.com/events/details/rotary-salmon-bake-07-12-2014-1831
END:VEVENT

END:VCALENDAR
