BEGIN:VCALENDAR
VERSION:2.0
PRODID:-//ChamberMaster//Event Calendar 2.0//EN
METHOD:PUBLISH
X-PUBLISHED-TTL:P3D
REFRESH-INTERVAL:P3D
CALSCALE:GREGORIAN
BEGIN:VEVENT
DTSTART:20140907T153000Z
DTEND:20140907T190000Z
X-MICROSOFT-CDO-ALLDAYEVENT:FALSE
SUMMARY:Run for Recovery
DESCRIPTION:Trilogy Recovery Community will host the fourth annual 5k Run for Recovery during National Recovery Month. #The event begins at 8:30 a.m. on Sept. 7 at Rooks Park. Runners must check in at 8 a.m. to receive a race T-shirt\, coupons and other local incentives. #Open registration is $25. All proceeds will benefit Trilogy\, a nonprofit organization dedicated to helping kids stay clean and sober by providing community-based recovery support services for youth and families. National Recovery Month promotes prevention\, treatment and recovery for mental and substance-use disorders.
X-ALT-DESC;FMTTYPE=text/html:Trilogy Recovery Community will host the fourth annual 5k Run for Recovery during National Recovery Month. #The event begins at 8:30 a.m. on Sept. 7 at Rooks Park. Runners must check in at 8 a.m. to receive a race T-shirt\, coupons and other local incentives. #Open registration is $25. All proceeds will benefit Trilogy\, a nonprofit organization dedicated to helping kids stay clean and sober by providing community-based recovery support services for youth and families. National Recovery Month promotes prevention\, treatment and recovery for mental and substance-use disorders.
LOCATION:Rooks Park\, Walla Walla
UID:e.65.1909
SEQUENCE:3
DTSTAMP:20260421T140246Z
URL:https://business.wwvchamber.com/events/details/run-for-recovery-09-07-2014-1909
END:VEVENT

END:VCALENDAR
