BEGIN:VCALENDAR
VERSION:2.0
PRODID:-//ChamberMaster//Event Calendar 2.0//EN
METHOD:PUBLISH
X-PUBLISHED-TTL:P3D
REFRESH-INTERVAL:P3D
CALSCALE:GREGORIAN
BEGIN:VEVENT
DTSTART:20140907T010000Z
DTEND:20140907T040000Z
X-MICROSOFT-CDO-ALLDAYEVENT:FALSE
SUMMARY:Salsa Under the Stars
DESCRIPTION:Castillo De Feliciana presents their 4th annual Salsa Under the Stars event! enjoy an evening of food\, music\, salsa lessons\, wine and sangria! Please call 541-558-3656 for more information and to make your reservation.
X-ALT-DESC;FMTTYPE=text/html:Castillo De Feliciana presents their 4th annual Salsa Under the Stars event! enjoy an evening of food\, music\, salsa lessons\, wine and sangria! Please call 541-558-3656 for more information and to make your reservation.&nbsp\;
LOCATION:
UID:e.65.1883
SEQUENCE:3
DTSTAMP:20260421T140245Z
URL:https://business.wwvchamber.com/events/details/salsa-under-the-stars-09-06-2014-1883
END:VEVENT

END:VCALENDAR
