BEGIN:VCALENDAR
VERSION:2.0
PRODID:-//ChamberMaster//Event Calendar 2.0//EN
METHOD:PUBLISH
X-PUBLISHED-TTL:P3D
REFRESH-INTERVAL:P3D
CALSCALE:GREGORIAN
BEGIN:VEVENT
DTSTART;VALUE=DATE:20140808
DTEND;VALUE=DATE:20140901
TRANSP:TRANSPARENT
X-MICROSOFT-CDO-ALLDAYEVENT:TRUE
SUMMARY:School Supplies DRIVE at Walla Walla Pediatric Dentistry
DESCRIPTION:We are having a school supplies DRIVE! Drop off your new supplies anytime in the month of August! We will donate it at the end of this month to children of the community in need. Items can be dropped off at Walla Walla Pediatric Dentistry 614 E Alder St STE 6 Walla Walla\, Wa 99362
X-ALT-DESC;FMTTYPE=text/html:We are having a school supplies DRIVE! Drop off your new supplies anytime in the month of August! We will donate it at the end of this month to children of the community in need. Items can be dropped off at Walla Walla Pediatric Dentistry 614 E Alder St STE 6 Walla Walla\, Wa 99362
LOCATION:Walla Walla Pediatric Dentistry
UID:e.65.1892
SEQUENCE:3
DTSTAMP:20260421T161204Z
URL:https://business.wwvchamber.com/events/details/school-supplies-drive-at-walla-walla-pediatric-dentistry-08-08-2014-1892
END:VEVENT

END:VCALENDAR
