BEGIN:VCALENDAR
VERSION:2.0
PRODID:-//ChamberMaster//Event Calendar 2.0//EN
METHOD:PUBLISH
X-PUBLISHED-TTL:P3D
REFRESH-INTERVAL:P3D
CALSCALE:GREGORIAN
BEGIN:VEVENT
DTSTART:20260523T230000Z
DTEND:20260524T010000Z
X-MICROSOFT-CDO-ALLDAYEVENT:FALSE
SUMMARY:Scott's B-Day Bash Live Music Event
DESCRIPTION:Get READY! Our Boss is turning the big 5-0\, and we want YOU to come celebrate with us! We will have live music by "Friends of the Devil" (who doesn't love a good Grateful Dead/ Phish spin-off band?!?) La Monarca Food truck will be here to satisfy all your Taco\, Quesadilla\, and Burrito cravings. Wine available by the glass or bottle. We can't wait to share a glass with you and say cheers!
X-ALT-DESC;FMTTYPE=text/html:Get READY! Our Boss is turning the big 5-0\, and we want YOU to come celebrate with us! We will have live music by &quot\;Friends of the Devil&quot\; (who doesn&#39\;t love a good Grateful Dead/ Phish spin-off band?!?) La Monarca Food truck will be here to satisfy all your Taco\, Quesadilla\, and Burrito cravings. Wine available by the glass or bottle. We can&#39\;t wait to share a glass with you and say cheers!
LOCATION:Walla Walla Vintners 225 Vineyard Ln Walla Walla
UID:e.65.21929
SEQUENCE:3
DTSTAMP:20260426T031249Z
URL:https://business.wwvchamber.com/events/details/scott-s-b-day-bash-live-music-event-21929
END:VEVENT

END:VCALENDAR
