BEGIN:VCALENDAR
VERSION:2.0
PRODID:-//ChamberMaster//Event Calendar 2.0//EN
METHOD:PUBLISH
X-PUBLISHED-TTL:P3D
REFRESH-INTERVAL:P3D
CALSCALE:GREGORIAN
BEGIN:VEVENT
DTSTART:20140613T030000Z
DTEND:20140613T070000Z
X-MICROSOFT-CDO-ALLDAYEVENT:FALSE
SUMMARY:Shook Twins
DESCRIPTION:Born and raised in Sandpoint Idaho\, Shook Twins are an Indie folk-pop band now hailing from coniferous forested Portland\, Oregon. Identical twins\, Katelyn and Laurie Shook\, Kyle Volkman and Niko Daoussis form the core quartet. Central elements of the Shook Twins sound are a wide range of instrumentation\, including banjo\, guitar\, electric and upright bass\, mandolin\, electric guitar\, electronic drums\, face drum (beatbox)\, glockenspiel\, ukulele\, banjo drumming and their signature golden EGG.
X-ALT-DESC;FMTTYPE=text/html:Born and raised in Sandpoint Idaho\, Shook Twins are an Indie folk-pop band now hailing from coniferous forested Portland\, Oregon. Identical twins\, Katelyn and Laurie Shook\, Kyle Volkman and Niko Daoussis form the core quartet. Central elements of the Shook Twins sound are a wide range of instrumentation\, including banjo\, guitar\, electric and upright bass\, mandolin\, electric guitar\, electronic drums\, face drum (beatbox)\, glockenspiel\, ukulele\, banjo drumming and their signature golden EGG.&nbsp\;
LOCATION:Main Street Studios 207\, West Main Street 99362 Walla Walla\, WA
UID:e.65.1758
SEQUENCE:3
DTSTAMP:20260421T194514Z
URL:https://business.wwvchamber.com/events/details/shook-twins-06-12-2014-1758
END:VEVENT

END:VCALENDAR
