BEGIN:VCALENDAR
VERSION:2.0
PRODID:-//ChamberMaster//Event Calendar 2.0//EN
METHOD:PUBLISH
X-PUBLISHED-TTL:P3D
REFRESH-INTERVAL:P3D
CALSCALE:GREGORIAN
BEGIN:VEVENT
DTSTART:20140405T200000Z
DTEND:20140405T230000Z
X-MICROSOFT-CDO-ALLDAYEVENT:FALSE
SUMMARY:Shriners Hospitals for Children FREE Screening Clinic
DESCRIPTION:Shriners Hospitals for Children - Spokane\, provides expert pediatric care in orthopaedics (bone\, joint or muscle injuries or conditions).  All care is provided in a family-centered environment regardless of a patients ability to pay.\n\n \n\nIf you know a child we may help\, please let their family know about this free screening clinic in your area.
X-ALT-DESC;FMTTYPE=text/html:Shriners&nbsp\;Hospitals for Children - Spokane\, provides expert pediatric care in orthopaedics (bone\, joint or muscle injuries or conditions). &nbsp\;All care is provided in a family-centered environment regardless of a patients ability to pay.<br />\n&nbsp\;<br />\nIf you know a child we may help\, please let their family know about this free screening clinic in your area. &nbsp\;<br />\n<br />\n&nbsp\;
LOCATION:To be held at: Adventist Health/Medical Group 1125 South Second Avenue\, Walla Walla The Blue Mountain Shrine Club appreciates the Adventist Health & Medical Group's kindness in use of its facilities.
UID:e.65.1665
SEQUENCE:3
DTSTAMP:20260421T230800Z
URL:https://business.wwvchamber.com/events/details/shriners-hospitals-for-children-free-screening-clinic-04-05-2014-1665
END:VEVENT

END:VCALENDAR
