BEGIN:VCALENDAR
VERSION:2.0
PRODID:-//ChamberMaster//Event Calendar 2.0//EN
METHOD:PUBLISH
X-PUBLISHED-TTL:P3D
REFRESH-INTERVAL:P3D
CALSCALE:GREGORIAN
BEGIN:VEVENT
DTSTART:20140914T030000Z
DTEND:20140914T060000Z
X-MICROSOFT-CDO-ALLDAYEVENT:FALSE
SUMMARY:Sleight of Hand Cellars Magical Mystery Pour w/Tennis Pro\, Ex's with Benefits
DESCRIPTION:Once described by novelist and screenwriter Dave Eggers as "melodic and anarchic\," Tennis Pro is at times punky\, at times surfy\, and always grounded in melody and electricity in recordings and live performances. From a lyrical standpoint\, Tennis Pro remains a band obsessed with the trappings of ego and all things pretense. Their songs tell stories of heartbreak and entitlement\, often out of the mouth of an untrustworthy narrator.
X-ALT-DESC;FMTTYPE=text/html:Once described by novelist and screenwriter Dave Eggers as &quot\;melodic and anarchic\,&quot\; Tennis Pro is at times punky\, at times surfy\, and always grounded in melody and electricity in recordings and live performances. From a lyrical standpoint\, Tennis Pro remains a band obsessed with the trappings of ego and all things pretense. Their songs tell stories of heartbreak and entitlement\, often out of the mouth of an untrustworthy narrator.
LOCATION:Main Street Studios 207 West Main Street\, Walla Walla\, WA 99362
UID:e.65.1898
SEQUENCE:3
DTSTAMP:20260421T141024Z
URL:https://business.wwvchamber.com/events/details/sleight-of-hand-cellars-magical-mystery-pour-w-tennis-pro-ex-s-with-benefits-09-13-2014-1898
END:VEVENT

END:VCALENDAR
