BEGIN:VCALENDAR
VERSION:2.0
PRODID:-//ChamberMaster//Event Calendar 2.0//EN
METHOD:PUBLISH
X-PUBLISHED-TTL:P3D
REFRESH-INTERVAL:P3D
CALSCALE:GREGORIAN
BEGIN:VEVENT
DTSTART:20140416T180000Z
DTEND:20140416T200000Z
X-MICROSOFT-CDO-ALLDAYEVENT:FALSE
SUMMARY:SoupPort
DESCRIPTION:Helpline's annual fundraiser "SoupPort". Each $25 ticket rewards you with a one-of-a-kind bowl\, yours to keep\, filled with a savory soup prepared by Walla Walla Community College Culinary School\, accompanied by scrumptious bread from some of the Valley's best bakeries.
X-ALT-DESC;FMTTYPE=text/html:Helpline&#39\;s annual fundraiser &quot\;SoupPort&quot\;. Each $25 ticket rewards you with a one-of-a-kind bowl\, yours to keep\, filled with a savory soup prepared by Walla Walla Community College Culinary School\, accompanied by scrumptious bread from some of the Valley&#39\;s best bakeries.
LOCATION:St. Patrick Parish on the corner of 6th and Poplar in Walla Walla\, Blanchet Hall.
UID:e.65.693
SEQUENCE:3
DTSTAMP:20260422T002215Z
URL:https://business.wwvchamber.com/events/details/soupport-04-16-2014-693
END:VEVENT

END:VCALENDAR
