BEGIN:VCALENDAR
VERSION:2.0
PRODID:-//ChamberMaster//Event Calendar 2.0//EN
METHOD:PUBLISH
X-PUBLISHED-TTL:P3D
REFRESH-INTERVAL:P3D
CALSCALE:GREGORIAN
BEGIN:VEVENT
DTSTART:20140901T230000Z
DTEND:20140902T003000Z
X-MICROSOFT-CDO-ALLDAYEVENT:FALSE
SUMMARY:South Fork Grill Happy Hour
DESCRIPTION:Please join us for our first of many happy hours. We have drink specials and half priced appetizers!
X-ALT-DESC;FMTTYPE=text/html:Please join us for our first of many happy hours. We have drink specials and half priced appetizers! &nbsp\;&nbsp\;
LOCATION:South Fork Grill 1129 South 2nd Avenue
UID:e.65.1912
SEQUENCE:3
DTSTAMP:20260421T154110Z
URL:https://business.wwvchamber.com/events/details/south-fork-grill-happy-hour-09-01-2014-1912
END:VEVENT

END:VCALENDAR
