BEGIN:VCALENDAR
VERSION:2.0
PRODID:-//ChamberMaster//Event Calendar 2.0//EN
METHOD:PUBLISH
X-PUBLISHED-TTL:P3D
REFRESH-INTERVAL:P3D
CALSCALE:GREGORIAN
BEGIN:VEVENT
DTSTART:20140926T000000Z
DTEND:20140926T030000Z
X-MICROSOFT-CDO-ALLDAYEVENT:FALSE
SUMMARY:South Fork Grill Wine Dinner Featuring L'Ecole No. 41
DESCRIPTION:
X-ALT-DESC;FMTTYPE=text/html:
LOCATION:
UID:e.65.1941
SEQUENCE:3
DTSTAMP:20260421T140514Z
URL:https://business.wwvchamber.com/events/details/south-fork-grill-wine-dinner-featuring-l-ecole-no-41-09-25-2014-1941
END:VEVENT

END:VCALENDAR
