BEGIN:VCALENDAR
VERSION:2.0
PRODID:-//ChamberMaster//Event Calendar 2.0//EN
METHOD:PUBLISH
X-PUBLISHED-TTL:P3D
REFRESH-INTERVAL:P3D
CALSCALE:GREGORIAN
BEGIN:VEVENT
DTSTART:20141024T000000Z
DTEND:20141024T030000Z
X-MICROSOFT-CDO-ALLDAYEVENT:FALSE
SUMMARY:South Fork Wine Dinner with Trust Cellars
DESCRIPTION:Riesling\, TATT\, Syrah\, and Cab Franc oh my!! Join us in celebrating some great food with some great wine!!
X-ALT-DESC;FMTTYPE=text/html:Riesling\, TATT\, Syrah\, and Cab Franc oh my!! Join us in celebrating some great food with some great wine!!
LOCATION:1129 S 2nd\, suite D\, Walla Walla\, WA 99362
UID:e.65.1956
SEQUENCE:3
DTSTAMP:20260421T121114Z
URL:https://business.wwvchamber.com/events/details/south-fork-wine-dinner-with-trust-cellars-10-23-2014-1956
END:VEVENT

END:VCALENDAR
