BEGIN:VCALENDAR
VERSION:2.0
PRODID:-//ChamberMaster//Event Calendar 2.0//EN
METHOD:PUBLISH
X-PUBLISHED-TTL:P3D
REFRESH-INTERVAL:P3D
CALSCALE:GREGORIAN
BEGIN:VEVENT
DTSTART:20140901T190000Z
DTEND:20140901T190000Z
X-MICROSOFT-CDO-ALLDAYEVENT:FALSE
SUMMARY:Southfork Happy Hour
DESCRIPTION:New description...1/2 price on appetizers\, daily drink specials. Hours are Monday thru Saturday 4pm to 5:30 pm on the patio
X-ALT-DESC;FMTTYPE=text/html:New description...1/2 price on appetizers\, daily drink specials. Hours are Monday thru Saturday 4pm to 5:30 pm on the patio
LOCATION:1129 S 2nd\, suite D\, walla walla
UID:e.65.1928
SEQUENCE:3
DTSTAMP:20260421T153854Z
URL:https://business.wwvchamber.com/events/details/southfork-happy-hour-09-01-2014-1928
END:VEVENT

END:VCALENDAR
