BEGIN:VCALENDAR
VERSION:2.0
PRODID:-//ChamberMaster//Event Calendar 2.0//EN
METHOD:PUBLISH
X-PUBLISHED-TTL:P3D
REFRESH-INTERVAL:P3D
CALSCALE:GREGORIAN
BEGIN:VEVENT
DTSTART:20140419T003000Z
DTEND:20140524T020000Z
X-MICROSOFT-CDO-ALLDAYEVENT:FALSE
SUMMARY:Spinning Fire Light
DESCRIPTION:POi is a Maori spinning tradition used to tell stories through words and movement. Learn modern Poi while spinning fire lights! Learn the basics and expand into more complicated techniques as you gain confidence.
X-ALT-DESC;FMTTYPE=text/html:POi is a Maori spinning tradition used to tell stories through words and movement. Learn modern Poi while spinning fire lights! Learn the basics and expand into more complicated techniques as you gain confidence.
LOCATION:Every Friday evening Carnegie Building - 109 Palouse Street\, Walla Walla\, WA
UID:e.65.1661
SEQUENCE:3
DTSTAMP:20260421T210914Z
URL:https://business.wwvchamber.com/events/details/spinning-fire-light-04-18-2014-1661
END:VEVENT

END:VCALENDAR
