BEGIN:VCALENDAR
VERSION:2.0
PRODID:-//ChamberMaster//Event Calendar 2.0//EN
METHOD:PUBLISH
X-PUBLISHED-TTL:P3D
REFRESH-INTERVAL:P3D
CALSCALE:GREGORIAN
BEGIN:VEVENT
DTSTART:20140409T170000Z
DTEND:20140409T210000Z
X-MICROSOFT-CDO-ALLDAYEVENT:FALSE
SUMMARY:Spring Break Challenge Ropes Course - Leap of Faith
DESCRIPTION:Taking a Leap! Will it be a Leap of Faith or a Pamper Pole? Some use it as a space for contemplation and weighing options\; others use it as a spring for everything to begin at once\, turning doubts to dust. You decide what makes the most sense....what you know or what you would like to know.
X-ALT-DESC;FMTTYPE=text/html:Taking a Leap! Will it be a Leap of Faith or a Pamper Pole? Some use it as a space for contemplation and weighing options\; others use it as a spring for everything to begin at once\, turning doubts to dust. You decide what makes the most sense....what you know or what you would like to know.
LOCATION:Hawk Point Challenge Course
UID:e.65.1660
SEQUENCE:3
DTSTAMP:20260421T230107Z
URL:https://business.wwvchamber.com/events/details/spring-break-challenge-ropes-course-leap-of-faith-04-09-2014-1660
END:VEVENT

END:VCALENDAR
