BEGIN:VCALENDAR
VERSION:2.0
PRODID:-//ChamberMaster//Event Calendar 2.0//EN
METHOD:PUBLISH
X-PUBLISHED-TTL:P3D
REFRESH-INTERVAL:P3D
CALSCALE:GREGORIAN
BEGIN:VEVENT
DTSTART:20140410T170000Z
DTEND:20140410T210000Z
X-MICROSOFT-CDO-ALLDAYEVENT:FALSE
SUMMARY:Spring Break Challenge Ropes Course - Zipline!
DESCRIPTION:ZIPPPPPP-along for the Ride! The climb\; a dozen or more staples to hold\, pull\, and press upon\, and a nestled platform that turns out to be a bit more tricky than anticipated. Once atop 450ft of galvanized aircraft cable unwinds before you. Hook in\, step off\, and enjoy the ride!
X-ALT-DESC;FMTTYPE=text/html:ZIPPPPPP-along for the Ride! The climb\; a dozen or more staples to hold\, pull\, and press upon\, and a nestled platform that turns out to be a bit more tricky than anticipated. Once atop 450ft of galvanized aircraft cable unwinds before you. Hook in\, step off\, and enjoy the ride!
LOCATION:Hawk Point Challenge Course - Next to VA Hospital
UID:e.65.1659
SEQUENCE:3
DTSTAMP:20260422T002230Z
URL:https://business.wwvchamber.com/events/details/spring-break-challenge-ropes-course-zipline-04-10-2014-1659
END:VEVENT

END:VCALENDAR
